BEGIN:VCALENDAR
VERSION:2.0
PRODID:alexandra-schoo.de
METHOD:PUBLISH
BEGIN:VTIMEZONE
TZID:Europe/Berlin
X-LIC-LOCATION:Europe/Berlin
BEGIN:DAYLIGHT
TZOFFSETFROM:+0100
TZOFFSETTO:+0200
TZNAME:CEST
DTSTART:19700329T020000
RRULE:FREQ=YEARLY;INTERVAL=1;BYDAY=-1SU;BYMONTH=3
END:DAYLIGHT
BEGIN:STANDARD
TZOFFSETFROM:+0200
TZOFFSETTO:+0100
TZNAME:CET
DTSTART:19701025T030000
RRULE:FREQ=YEARLY;INTERVAL=1;BYDAY=-1SU;BYMONTH=10
END:STANDARD
END:VTIMEZONE
BEGIN:VEVENT
UID:cac7604b466773037be15ee32ab3477e@alexandra-schoo.de
URL;VALUE=URI:https://alexandra-schoo.de/termine/aktueller-stand-sonderab
 falldeponie-ochtrup/
LOCATION:Ochtrup
SUMMARY:Aktueller Stand: Sonderabfalldeponie Ochtrup
DESCRIPTION;ALTREP="data:text/html,%0A%3Cp%3EEine%20der%20gr%C3%B6%C3%9Ft
 en%20Umwelts%C3%BCnden%20des%20Landes%20NRW%20liegt%20in%20der%20Bauernsc
 haft%20von%20Ochtrup.%20In%20der%20Sonderabfalldeponie%20lagert%20der%20I
 ndustriem%C3%BCll%20des%20Ruhrgebiets%20der%2070ger%2C80ger%20und%2090ger
 %20Jahre.%20Was%20genau%3F%20Man%20wei%C3%9F%20es%20nicht%21%26nbsp%3B%3C
 %2Fp%3E%0A%0A%0A%0A%3Cp%3EIm%20letzten%20Jahr%20haben%20wir%20dazu%20bere
 its%20eine%20Veranstaltung%20gemeinsam%20mit%20Norwich%20R%C3%BC%C3%9Fe%2
 C%20MdL%20gehabt.%20Was%20ist%20in%20diesem%20Jahr%20passiert%3F%20Ein%20
 aktueller%20Stand.%3C%2Fp%3E%0A%0A%0A%0A%3Cp%3EWo%20wir%20uns%20treffen%2
 0werden%20wir%20zeitnah%20hier%2C%20auf%20der%20Website%20des%20OV%2C%20%
 C3%BCber%20die%20Presse%20und%20die%20Social%20Media%20Kan%C3%A4le%20ver%
 C3%B6ffentlichen.%20Norwich%20R%C3%BC%C3%9Fe%2C%20MdL%2C%20wird%20wieder%
 20unser%20Gast%20sein.%20%3C%2Fp%3E%0A":Eine der größten Umweltsünden 
 des Landes NRW liegt in der Bauernschaft von Ochtrup. In der Sonderabfall
 deponie lagert der Industriemüll des Ruhrgebiets der 70ger\,80ger und 90
 ger Jahre. Was genau? Man weiß es nicht! \n\nIm letzten Jahr haben wir 
 dazu bereits eine Veranstaltung gemeinsam mit Norwich Rüße\, MdL gehabt
 . Was ist in diesem Jahr passiert? Ein aktueller Stand.\n\nWo wir uns tre
 ffen werden wir zeitnah hier\, auf der Website des OV\, über die Presse 
 und die Social Media Kanäle veröffentlichen. Norwich Rüße\, MdL\, wir
 d wieder unser Gast sein.
CLASS:PUBLIC
DTSTART;TZID=Europe/Berlin:20210826T000000
DTEND;TZID=Europe/Berlin:20210826T010000
DTSTAMP:20260424T152915
END:VEVENT
END:VCALENDAR