BEGIN:VCALENDAR
VERSION:2.0
PRODID:alexandra-schoo.de
METHOD:PUBLISH
BEGIN:VTIMEZONE
TZID:Europe/Berlin
X-LIC-LOCATION:Europe/Berlin
BEGIN:DAYLIGHT
TZOFFSETFROM:+0100
TZOFFSETTO:+0200
TZNAME:CEST
DTSTART:19700329T020000
RRULE:FREQ=YEARLY;INTERVAL=1;BYDAY=-1SU;BYMONTH=3
END:DAYLIGHT
BEGIN:STANDARD
TZOFFSETFROM:+0200
TZOFFSETTO:+0100
TZNAME:CET
DTSTART:19701025T030000
RRULE:FREQ=YEARLY;INTERVAL=1;BYDAY=-1SU;BYMONTH=10
END:STANDARD
END:VTIMEZONE
BEGIN:VEVENT
UID:d454afe76076887b0f5e19a0c391df0c@alexandra-schoo.de
URL;VALUE=URI:https://alexandra-schoo.de/termine/frauen-pflege-feminismus
 -mit-ricarda-lang/
LOCATION:Berkelbeach, Vreden
SUMMARY:Frauen – Pflege – Feminismus mit Ricarda Lang
DESCRIPTION;ALTREP="data:text/html,%0A%3Cp%3EWir%20Frauen%20bilden%20die%
 20H%C3%A4lfte%20der%20Gesellschaft%2C%20sind%20aber%20nicht%20zu%2050%20%
 25%20in%20den%20Parlamenten%20und%20anderen%20wichtigen%20Entscheidungsgr
 emien%20vertreten.%20Dar%C3%BCber%20hinaus%20verdienen%20wir%20auch%2019%
 25%20weniger%20und%20sind%20viel%20h%C3%A4ufiger%20von%20Altersarmut%20be
 droht%20%E2%80%93%20und%20das%2C%20wo%20wir%20bis%20heute%20noch%20mehr%2
 0Sorgearbeit%20leisten.%26nbsp%3B%3C%2Fp%3E%0A%0A%0A%0A%3Cp%3EDar%C3%BCbe
 r%2C%20und%20nat%C3%BCrlich%20noch%20viel%20mehr%20%E2%80%93%20unterhalte
 %20ich%20mich%20mit%20Ricarda%20Lang%2C%20und%20nat%C3%BCrlich%20mit%20eu
 ch%20%E2%80%93%20in%20Vreden%21%20Herzliche%20Einladung%21%3C%2Fp%3E%0A%0
 A%0A%0A%3Cp%3E%3C%2Fp%3E%0A%0A%0A%0A%3Cp%3E%3C%2Fp%3E%0A%0A%0A%0A%3Cp%3E%
 3C%2Fp%3E%0A%0A%0A%0A%3Cp%3E%3C%2Fp%3E%0A":Wir Frauen bilden die Hälfte 
 der Gesellschaft\, sind aber nicht zu 50 % in den Parlamenten und anderen
  wichtigen Entscheidungsgremien vertreten. Darüber hinaus verdienen wir 
 auch 19% weniger und sind viel häufiger von Altersarmut bedroht – und 
 das\, wo wir bis heute noch mehr Sorgearbeit leisten. \n\nDarüber\, und
  natürlich noch viel mehr – unterhalte ich mich mit Ricarda Lang\, und
  natürlich mit euch – in Vreden! Herzliche Einladung!
CLASS:PUBLIC
DTSTART;TZID=Europe/Berlin:20210831T190000
DTEND;TZID=Europe/Berlin:20210831T200000
DTSTAMP:20260424T152804
END:VEVENT
END:VCALENDAR