BEGIN:VCALENDAR
VERSION:2.0
PRODID:alexandra-schoo.de
METHOD:PUBLISH
BEGIN:VTIMEZONE
TZID:Europe/Berlin
X-LIC-LOCATION:Europe/Berlin
BEGIN:DAYLIGHT
TZOFFSETFROM:+0100
TZOFFSETTO:+0200
TZNAME:CEST
DTSTART:19700329T020000
RRULE:FREQ=YEARLY;INTERVAL=1;BYDAY=-1SU;BYMONTH=3
END:DAYLIGHT
BEGIN:STANDARD
TZOFFSETFROM:+0200
TZOFFSETTO:+0100
TZNAME:CET
DTSTART:19701025T030000
RRULE:FREQ=YEARLY;INTERVAL=1;BYDAY=-1SU;BYMONTH=10
END:STANDARD
END:VTIMEZONE
BEGIN:VEVENT
UID:b6604128d8c8842b2099c9c9910526a6@alexandra-schoo.de
URL;VALUE=URI:https://alexandra-schoo.de/termine/hiroshima-und-nagasaki-m
 ahnen-kein-atomares-wettruesten/
LOCATION:Urenco Gronau, Röntgenstraße 4, Gronau
SUMMARY:Hiroshima und Nagasaki mahnen: Kein atomares Wettrüsten!
DESCRIPTION;ALTREP="data:text/html,%0A%3Cp%3EHauptdemo%26nbsp%3B%3C%2Fp%3
 E%0A%0A%0A%0A%3Cp%3EFahrraddemo%20Gronau%3C%2Fp%3E%0A%0A%0A%0A%3Cp%3EDies
 %20ist%20die%20Hauptdemo.%20Hier%20finden%20Sie%2Fdu%20mich%20in%20der%20
 Menge.%20Falls%20Sie%2Fdu%20mich%20siehst-%20immer%20ansprechen.%3C%2Fp%3
 E%0A%0A%0A%0A%3Cp%3EVeranstalterin%3A%20AKU%20Gronau%2C%20SOFA%20M%C3%BCn
 ster%2C%20BBU%20IPPNW%20Deutschland%2C%20Enschede%20Voor%20Vrede%2C%20AKU
 %20Sch%C3%BCttorf%2C%20BI%20Ahaus%2C%20B%C3%BCndnis%20AGIEL%2C%20Elternve
 rein%20Restrisiko%20Emsland%2C%20Aktionsb%C3%BCndnis%20M%C3%BCnsterland%2
 0gegen%20Atomanlagen%3C%2Fp%3E%0A%0A%0A%0A%3Cdiv%20class%3D%22wp-block-co
 ver%20has-background-dim%22%3E%3Cimg%20class%3D%22wp-block-cover__image-b
 ackground%20wp-image-482%22%20alt%3D%22%22%20src%3D%22https%3A%2F%2Falexa
 ndra-schoo.de%2Fwp-content%2Fuploads%2F2021%2F07%2Fatomkraft-nein-flyeral
 arm-postkarte-quer.jpg%22%20data-object-fit%3D%22cover%22%20%2F%3E%3Cdiv%
 20class%3D%22wp-block-cover__inner-container%20is-layout-flow%20wp-block-
 cover-is-layout-flow%22%3E%0A%3Cp%20class%3D%22has-text-align-center%20ha
 s-large-font-size%22%3E%3C%2Fp%3E%0A%3C%2Fdiv%3E%3C%2Fdiv%3E%0A":Hauptdem
 o \n\nFahrraddemo Gronau\n\nDies ist die Hauptdemo. Hier finden Sie/du m
 ich in der Menge. Falls Sie/du mich siehst- immer ansprechen.\n\nVeransta
 lterin: AKU Gronau\, SOFA Münster\, BBU IPPNW Deutschland\, Enschede Voo
 r Vrede\, AKU Schüttorf\, BI Ahaus\, Bündnis AGIEL\, Elternverein Restr
 isiko Emsland\, Aktionsbündnis Münsterland gegen Atomanlagen
CLASS:PUBLIC
DTSTART;TZID=Europe/Berlin:20210808T140000
DTEND;TZID=Europe/Berlin:20210808T150000
DTSTAMP:20260424T152952
END:VEVENT
END:VCALENDAR