BEGIN:VCALENDAR
VERSION:2.0
PRODID:alexandra-schoo.de
METHOD:PUBLISH
BEGIN:VTIMEZONE
TZID:Europe/Berlin
X-LIC-LOCATION:Europe/Berlin
BEGIN:DAYLIGHT
TZOFFSETFROM:+0100
TZOFFSETTO:+0200
TZNAME:CEST
DTSTART:19700329T020000
RRULE:FREQ=YEARLY;INTERVAL=1;BYDAY=-1SU;BYMONTH=3
END:DAYLIGHT
BEGIN:STANDARD
TZOFFSETFROM:+0200
TZOFFSETTO:+0100
TZNAME:CET
DTSTART:19701025T030000
RRULE:FREQ=YEARLY;INTERVAL=1;BYDAY=-1SU;BYMONTH=10
END:STANDARD
END:VTIMEZONE
BEGIN:VEVENT
UID:da6c46e9ca54853378a701b0580771a1@alexandra-schoo.de
URL;VALUE=URI:https://alexandra-schoo.de/termine/hoffest-hillmann/
LOCATION:Biohof Hillmann, Heven 1, Schöppingen
SUMMARY:Hoffest Hillmann
DESCRIPTION;ALTREP="data:text/html,%0A%3Cp%3EJedes%20Jahr%20veranstaltet%
 20der%20Bio-Hof%20Hillmann%20in%20Sch%C3%B6ppingen%20ein%20Hoffest.%20Dor
 t%20kann%20der%20Hof%20angesehen%20werden%20und%20viele%20Informationen%2
 0gesammelt%20werden.%26nbsp%3B%3C%2Fp%3E%0A%0A%0A%0A%3Cp%3EIch%20komme%20
 um%2015%20Uhr%20zum%20Hoffest%2C%20das%20den%20ganzen%20Tag%20%C3%BCber%2
 0stattfindet.%20%3C%2Fp%3E%0A":Jedes Jahr veranstaltet der Bio-Hof Hillma
 nn in Schöppingen ein Hoffest. Dort kann der Hof angesehen werden und vi
 ele Informationen gesammelt werden. \n\nIch komme um 15 Uhr zum Hoffest\
 , das den ganzen Tag über stattfindet.
CLASS:PUBLIC
DTSTART;TZID=Europe/Berlin:20210829T150000
DTEND;TZID=Europe/Berlin:20210829T160000
DTSTAMP:20260424T151833
END:VEVENT
END:VCALENDAR