BEGIN:VCALENDAR
VERSION:2.0
PRODID:alexandra-schoo.de
METHOD:PUBLISH
BEGIN:VTIMEZONE
TZID:Europe/Berlin
X-LIC-LOCATION:Europe/Berlin
BEGIN:DAYLIGHT
TZOFFSETFROM:+0100
TZOFFSETTO:+0200
TZNAME:CEST
DTSTART:19700329T020000
RRULE:FREQ=YEARLY;INTERVAL=1;BYDAY=-1SU;BYMONTH=3
END:DAYLIGHT
BEGIN:STANDARD
TZOFFSETFROM:+0200
TZOFFSETTO:+0100
TZNAME:CET
DTSTART:19701025T030000
RRULE:FREQ=YEARLY;INTERVAL=1;BYDAY=-1SU;BYMONTH=10
END:STANDARD
END:VTIMEZONE
BEGIN:VEVENT
UID:e24100f6076e2b190468c711b76147ab@alexandra-schoo.de
URL;VALUE=URI:https://alexandra-schoo.de/termine/klimadialog-in-der-holli
 cher-muehle-2/
LOCATION:Hollicher Mühle
SUMMARY:Klimadialog in der Hollicher Mühle
DESCRIPTION;ALTREP="data:text/html,%0A%3Cp%3EDer%20Klimadialog%20ist%20ei
 ne%20bekannte%20Veranstaltung%20vom%20OV%20Steinfurt.%20Gemeinsam%20mit%2
 0Dr.%20Jan%20Niclas%20Gesenhues%20werden%20wir%20%C3%BCber%20die%20aktuel
 le%20Situation%20sprechen%20und%20die%20M%C3%B6glichkeit%20zum%20Dialog%2
 0geben.%20Was%20m%C3%BCssen%20wir%20mit%20nach%20Berlin%20nehmen%3F%20Kom
 men%20Sie%2FKomm%20du%20vorbei%2C%20das%20wird%20eine%20spannende%20Veran
 staltung.%3C%2Fp%3E%0A":Der Klimadialog ist eine bekannte Veranstaltung v
 om OV Steinfurt. Gemeinsam mit Dr. Jan Niclas Gesenhues werden wir über 
 die aktuelle Situation sprechen und die Möglichkeit zum Dialog geben. Wa
 s müssen wir mit nach Berlin nehmen? Kommen Sie/Komm du vorbei\, das wir
 d eine spannende Veranstaltung.
CLASS:PUBLIC
DTSTART;TZID=Europe/Berlin:20210720T180000
DTEND;TZID=Europe/Berlin:20210720T190000
DTSTAMP:20260424T152111
END:VEVENT
END:VCALENDAR