BEGIN:VCALENDAR
VERSION:2.0
PRODID:alexandra-schoo.de
METHOD:PUBLISH
BEGIN:VTIMEZONE
TZID:Europe/Berlin
X-LIC-LOCATION:Europe/Berlin
BEGIN:DAYLIGHT
TZOFFSETFROM:+0100
TZOFFSETTO:+0200
TZNAME:CEST
DTSTART:19700329T020000
RRULE:FREQ=YEARLY;INTERVAL=1;BYDAY=-1SU;BYMONTH=3
END:DAYLIGHT
BEGIN:STANDARD
TZOFFSETFROM:+0200
TZOFFSETTO:+0100
TZNAME:CET
DTSTART:19701025T030000
RRULE:FREQ=YEARLY;INTERVAL=1;BYDAY=-1SU;BYMONTH=10
END:STANDARD
END:VTIMEZONE
BEGIN:VEVENT
UID:6f750ef0cc6cf0047dd72cd66bedbc1a@alexandra-schoo.de
URL;VALUE=URI:https://alexandra-schoo.de/termine/klimadialog-klimaneutral
 -sozial-gerecht/
LOCATION:
SUMMARY:Klimadialog – klimaneutral.sozial.gerecht!
DESCRIPTION;ALTREP="data:text/html,%0A%3Cp%3EAm%20Donnerstag%2C%2002.%20S
 eptember%202021%2C%20laden%20die%20GR%C3%9CNEN%20Neuenkirchen%20zum%20%E2
 %80%9EKlimadialog%20%E2%80%93%20klimaneutral.sozial.gerecht%21%E2%80%9C%2
 0auf%20den%20Rathausplatz%20ein.%20Als%20G%C3%A4ste%20sind%20Alexandra%20
 Schoo%2C%20Direktkandidatin%20f%C3%BCr%20den%20n%C3%A4chsten%20Bundestag%
 2C%20und%20Uli%20Ahlke%20vom%20Verein%20%E2%80%9EWie%20wollen%20wir%20leb
 en%E2%80%9C%20eingeladen.%20Es%20geht%20um%20echten%2C%20ambitionierten%2
 0und%20sozial%20gerechten%20Klimaschutz%20verbunden%20mit%20der%20Frage%2
 C%20was%20jeder%20Einzelne%20jetzt%20tun%20kann%20und%20was%20auf%20Bunde
 s-%20und%20Landesebene%20umgesetzt%20werden%20muss%2C%20um%20die%20Parise
 r%20Klimaziele%20erreichen%20zu%20k%C3%B6nnen.%20Nach%20kurzen%20Input-Vo
 rtr%C3%A4gen%20zum%20Klimaschutz-Sofortprogramm%20der%20GR%C3%9CNEN%20wir
 d%20sich%20eine%20offene%20Diskussionsrunde%20anschlie%C3%9Fen.%3C%2Fp%3E
 %0A%0A%0A%0A%3Cp%3EBeginn%20der%20Veranstaltung%20ist%20um%2018%3A30%20Uh
 r.%20Wir%20bitten%20darum%2C%20die%20geltenden%20Hygieneregeln%20einzuhal
 ten.%3C%2Fp%3E%0A":Am Donnerstag\, 02. September 2021\, laden die GRÜNEN
  Neuenkirchen zum „Klimadialog – klimaneutral.sozial.gerecht!“ auf 
 den Rathausplatz ein. Als Gäste sind Alexandra Schoo\, Direktkandidatin 
 für den nächsten Bundestag\, und Uli Ahlke vom Verein „Wie wollen wir
  leben“ eingeladen. Es geht um echten\, ambitionierten und sozial gerec
 hten Klimaschutz verbunden mit der Frage\, was jeder Einzelne jetzt tun k
 ann und was auf Bundes- und Landesebene umgesetzt werden muss\, um die Pa
 riser Klimaziele erreichen zu können. Nach kurzen Input-Vorträgen zum K
 limaschutz-Sofortprogramm der GRÜNEN wird sich eine offene Diskussionsru
 nde anschließen.\n\nBeginn der Veranstaltung ist um 18:30 Uhr. Wir bitte
 n darum\, die geltenden Hygieneregeln einzuhalten.
CLASS:PUBLIC
DTSTART;TZID=Europe/Berlin:20210902T183000
DTEND;TZID=Europe/Berlin:20210902T193000
DTSTAMP:20260424T152840
END:VEVENT
END:VCALENDAR