BEGIN:VCALENDAR
VERSION:2.0
PRODID:alexandra-schoo.de
METHOD:PUBLISH
BEGIN:VTIMEZONE
TZID:Europe/Berlin
X-LIC-LOCATION:Europe/Berlin
BEGIN:DAYLIGHT
TZOFFSETFROM:+0100
TZOFFSETTO:+0200
TZNAME:CEST
DTSTART:19700329T020000
RRULE:FREQ=YEARLY;INTERVAL=1;BYDAY=-1SU;BYMONTH=3
END:DAYLIGHT
BEGIN:STANDARD
TZOFFSETFROM:+0200
TZOFFSETTO:+0100
TZNAME:CET
DTSTART:19701025T030000
RRULE:FREQ=YEARLY;INTERVAL=1;BYDAY=-1SU;BYMONTH=10
END:STANDARD
END:VTIMEZONE
BEGIN:VEVENT
UID:b3754afe955ef41d0e4a31e8fcfc6b88@alexandra-schoo.de
URL;VALUE=URI:https://alexandra-schoo.de/termine/kreismitgliederversammlu
 ng-steinfurt/
LOCATION:Saerbeck
SUMMARY:Kreismitgliederversammlung Steinfurt
DESCRIPTION;ALTREP="data:text/html,%0A%3Cp%3EEndlich%20wieder%20eine%20Mi
 tgliederversammlung%20in%20Pr%C3%A4senz.%20Ich%20freue%20mich%20schon%20s
 ehr%2C%20und%20darf-%20gemeinsam%20mit%20Dr.%20Jan%20Niclas%20Gesenhues%2
 0das%20Gru%C3%9Fwort%20f%C3%BCr%20die%20Versammlung%20sprechen.%20Endlich
 %20k%C3%B6nnen%20wir%20uns%20auch%20alle%20gemeinsam%20in%20Pr%C3%A4senz%
 20auf%20den%20Bundestagswahlkampf%20einstimmen.%3C%2Fp%3E%0A":Endlich wie
 der eine Mitgliederversammlung in Präsenz. Ich freue mich schon sehr\, u
 nd darf- gemeinsam mit Dr. Jan Niclas Gesenhues das Grußwort für die Ve
 rsammlung sprechen. Endlich können wir uns auch alle gemeinsam in Präse
 nz auf den Bundestagswahlkampf einstimmen.
CLASS:PUBLIC
DTSTART;TZID=Europe/Berlin:20210814T140000
DTEND;TZID=Europe/Berlin:20210814T170000
DTSTAMP:20260424T152039
END:VEVENT
END:VCALENDAR