BEGIN:VCALENDAR
VERSION:2.0
PRODID:alexandra-schoo.de
METHOD:PUBLISH
BEGIN:VTIMEZONE
TZID:Europe/Berlin
X-LIC-LOCATION:Europe/Berlin
BEGIN:DAYLIGHT
TZOFFSETFROM:+0100
TZOFFSETTO:+0200
TZNAME:CEST
DTSTART:19700329T020000
RRULE:FREQ=YEARLY;INTERVAL=1;BYDAY=-1SU;BYMONTH=3
END:DAYLIGHT
BEGIN:STANDARD
TZOFFSETFROM:+0200
TZOFFSETTO:+0100
TZNAME:CET
DTSTART:19701025T030000
RRULE:FREQ=YEARLY;INTERVAL=1;BYDAY=-1SU;BYMONTH=10
END:STANDARD
END:VTIMEZONE
BEGIN:VEVENT
UID:4eb9ce56abd5664f3bc197927766f29e@alexandra-schoo.de
URL;VALUE=URI:https://alexandra-schoo.de/termine/mahnwache-fuer-menschenr
 echte/
LOCATION:Kirchplatz Lambertikirche, Kirchplatz, Ochtrup
SUMMARY:Mahnwache für Menschenrechte
DESCRIPTION;ALTREP="data:text/html,%0A%3Cfigure%20class%3D%22wp-block-ima
 ge%20size-large%20is-style-default%22%3E%3Cimg%20src%3D%22https%3A%2F%2Fa
 lexandra-schoo.de%2Fwp-content%2Fuploads%2F2021%2F05%2FIMAGE-2021-05-26-2
 05945-734x1024.jpg%22%20alt%3D%22%22%20class%3D%22wp-image-262%22%20%2F%3
 E%3C%2Ffigure%3E%0A":
CLASS:PUBLIC
DTSTART;TZID=Europe/Berlin:20210605T100000
DTEND;TZID=Europe/Berlin:20210605T110000
DTSTAMP:20260424T152206
END:VEVENT
END:VCALENDAR