BEGIN:VCALENDAR
VERSION:2.0
PRODID:alexandra-schoo.de
METHOD:PUBLISH
BEGIN:VTIMEZONE
TZID:Europe/Berlin
X-LIC-LOCATION:Europe/Berlin
BEGIN:DAYLIGHT
TZOFFSETFROM:+0100
TZOFFSETTO:+0200
TZNAME:CEST
DTSTART:19700329T020000
RRULE:FREQ=YEARLY;INTERVAL=1;BYDAY=-1SU;BYMONTH=3
END:DAYLIGHT
BEGIN:STANDARD
TZOFFSETFROM:+0200
TZOFFSETTO:+0100
TZNAME:CET
DTSTART:19701025T030000
RRULE:FREQ=YEARLY;INTERVAL=1;BYDAY=-1SU;BYMONTH=10
END:STANDARD
END:VTIMEZONE
BEGIN:VEVENT
UID:48b918b1d606204e3d6f59b0315e7bd2@alexandra-schoo.de
URL;VALUE=URI:https://alexandra-schoo.de/termine/marktgespraech-rheine/
LOCATION:
SUMMARY:Marktgespräch Rheine
DESCRIPTION;ALTREP="data:text/html,%0A%3Cp%3EWir%20sind%20mit%20dem%20Ort
 sverband%20Rheine%20auf%20dem%20Wochenmarkt%20am%20B%C3%BCro%20der%20Gr%C
 3%BCnen%20in%20Rheine%3C%2Fp%3E%0A":Wir sind mit dem Ortsverband Rheine a
 uf dem Wochenmarkt am Büro der Grünen in Rheine
CLASS:PUBLIC
DTSTART;TZID=Europe/Berlin:20210626T100000
DTEND;TZID=Europe/Berlin:20210626T120000
DTSTAMP:20260424T151841
END:VEVENT
END:VCALENDAR