BEGIN:VCALENDAR
VERSION:2.0
PRODID:alexandra-schoo.de
METHOD:PUBLISH
BEGIN:VTIMEZONE
TZID:Europe/Berlin
X-LIC-LOCATION:Europe/Berlin
BEGIN:DAYLIGHT
TZOFFSETFROM:+0100
TZOFFSETTO:+0200
TZNAME:CEST
DTSTART:19700329T020000
RRULE:FREQ=YEARLY;INTERVAL=1;BYDAY=-1SU;BYMONTH=3
END:DAYLIGHT
BEGIN:STANDARD
TZOFFSETFROM:+0200
TZOFFSETTO:+0100
TZNAME:CET
DTSTART:19701025T030000
RRULE:FREQ=YEARLY;INTERVAL=1;BYDAY=-1SU;BYMONTH=10
END:STANDARD
END:VTIMEZONE
BEGIN:VEVENT
UID:c9521f4fd197a97347be11ca976c1999@alexandra-schoo.de
URL;VALUE=URI:https://alexandra-schoo.de/termine/marktgespraech-rheine-2/
LOCATION:Emstorplatz, Rheine
SUMMARY:Marktgespräch Rheine
DESCRIPTION;ALTREP="data:text/html,%0A%3Cp%3EPolitik%20muss%20zu%20Mensch
 en%20kommen%2C%20nicht%20die%20Menschen%20zu%20Politik.%20Das%20ist%20mir
 %20wichtig.%20Deshalb%20komme%20ich%20vorbei%2C%20um%20vor%20Ort%20mit%20
 den%20Menschen%20ins%20Gespr%C3%A4ch%20zu%20kommen.%20Ich%20bin%20bereit%
 20f%C3%BCr%20Fragen%2C%20Anregungen%20und%20Impulse.%20F%C3%BChlen%20Sie%
 20sich%2F%20f%C3%BChl%20du%20dich%20eingeladen%20und%20komm%20vorbei.%20W
 o%20genau%3F%20Das%20erf%C3%A4hrst%20du%20aus%20der%20lokalen%20Presse%2C
 %20unseren%20Social-Media-Kan%C3%A4len%2C%20oder%20zeitnah%20auf%20dieser
 %20Seite.%3C%2Fp%3E%0A":Politik muss zu Menschen kommen\, nicht die Mensc
 hen zu Politik. Das ist mir wichtig. Deshalb komme ich vorbei\, um vor Or
 t mit den Menschen ins Gespräch zu kommen. Ich bin bereit für Fragen\, 
 Anregungen und Impulse. Fühlen Sie sich/ fühl du dich eingeladen und ko
 mm vorbei. Wo genau? Das erfährst du aus der lokalen Presse\, unseren So
 cial-Media-Kanälen\, oder zeitnah auf dieser Seite.
CLASS:PUBLIC
DTSTART;TZID=Europe/Berlin:20210910T150000
DTEND;TZID=Europe/Berlin:20210910T170000
DTSTAMP:20260424T151958
END:VEVENT
END:VCALENDAR