BEGIN:VCALENDAR
VERSION:2.0
PRODID:alexandra-schoo.de
METHOD:PUBLISH
BEGIN:VTIMEZONE
TZID:Europe/Berlin
X-LIC-LOCATION:Europe/Berlin
BEGIN:DAYLIGHT
TZOFFSETFROM:+0100
TZOFFSETTO:+0200
TZNAME:CEST
DTSTART:19700329T020000
RRULE:FREQ=YEARLY;INTERVAL=1;BYDAY=-1SU;BYMONTH=3
END:DAYLIGHT
BEGIN:STANDARD
TZOFFSETFROM:+0200
TZOFFSETTO:+0100
TZNAME:CET
DTSTART:19701025T030000
RRULE:FREQ=YEARLY;INTERVAL=1;BYDAY=-1SU;BYMONTH=10
END:STANDARD
END:VTIMEZONE
BEGIN:VEVENT
UID:de4b7f99331660a3f759ca556560a66e@alexandra-schoo.de
URL;VALUE=URI:https://alexandra-schoo.de/termine/podiumsdiskussion-stadtj
 ugendring-rheine/
LOCATION:Rheine
SUMMARY:Podiumsdiskussion Stadtjugendring Rheine
DESCRIPTION;ALTREP="data:text/html,%0A%3Cp%3EZentraler%20Bestandteil%20vo
 n%20Wahlk%C3%A4mpfen%20sind%20Podiumsdiskussionen%2C%20bei%20denen%20alle
 %20Kandidat%3Ainnen%20miteinander%20verglichen%20werden.%20Besonders%20in
 teressant%2C%20und%20mir%20pers%C3%B6nlich%20wichtig%2C%20sind%20die%20Po
 diumsdiskussionen%20von%20Schulen.%20Das%20wird%20eine%20spannende%20Vera
 nstaltung%3C%2Fp%3E%0A":Zentraler Bestandteil von Wahlkämpfen sind Podiu
 msdiskussionen\, bei denen alle Kandidat:innen miteinander verglichen wer
 den. Besonders interessant\, und mir persönlich wichtig\, sind die Podiu
 msdiskussionen von Schulen. Das wird eine spannende Veranstaltung
CLASS:PUBLIC
DTSTART;TZID=Europe/Berlin:20210916T100000
DTEND;TZID=Europe/Berlin:20210916T110000
DTSTAMP:20260424T154149
END:VEVENT
END:VCALENDAR