BEGIN:VCALENDAR
VERSION:2.0
PRODID:alexandra-schoo.de
METHOD:PUBLISH
BEGIN:VTIMEZONE
TZID:Europe/Berlin
X-LIC-LOCATION:Europe/Berlin
BEGIN:DAYLIGHT
TZOFFSETFROM:+0100
TZOFFSETTO:+0200
TZNAME:CEST
DTSTART:19700329T020000
RRULE:FREQ=YEARLY;INTERVAL=1;BYDAY=-1SU;BYMONTH=3
END:DAYLIGHT
BEGIN:STANDARD
TZOFFSETFROM:+0200
TZOFFSETTO:+0100
TZNAME:CET
DTSTART:19701025T030000
RRULE:FREQ=YEARLY;INTERVAL=1;BYDAY=-1SU;BYMONTH=10
END:STANDARD
END:VTIMEZONE
BEGIN:VEVENT
UID:869ff7ba4a28a0e7ecf39e31233b39c0@alexandra-schoo.de
URL;VALUE=URI:https://alexandra-schoo.de/termine/raddemo-steinfurt-mobili
 taetswende/
LOCATION:Stadtbücherei Burgsteinfurt, Steinfurt
SUMMARY:Raddemo Steinfurt – Mobilitätswende
DESCRIPTION;ALTREP="data:text/html,%0A%3Cp%3EWir%20demonstrieren%20f%C3%B
 Cr%3A%3C%2Fp%3E%0A%0A%0A%0A%3Cul%20class%3D%22wp-block-list%22%3E%3Cli%3E
 Klimaschutz%21%3C%2Fli%3E%3Cli%3EVerkehrssicherheit%21%3C%2Fli%3E%3Cli%3E
 Menschengerechten%20Verkehr%21%3C%2Fli%3E%3Cli%3EEinen%20Ausbau%20des%20%
 C3%96PNV%21%3C%2Fli%3E%3Cli%3EGleichberechtigung%20aller%20Verkehrsteilne
 hmer%3Ainnen%21%3C%2Fli%3E%3C%2Ful%3E%0A%0A%0A%0A%3Cp%3EUnd%20das%20alles
 %20per%20Fahrrad.%20Wir%20starten%20in%20Steinfurt%20an%20der%20Stadtb%C3
 %BCcherei%20und%20enden%20mit%20einer%20Abschlusskundgebung%20in%20Borgho
 rst%20%28Roter%20Platz%29.%20Neben%20mir%20wird%20auch%20Uli%20Ahlke%20%2
 8Verein%20WieWollenWirLeben%20e.V.%29%20sprechen.%20Herzliche%20Einladung
 .%3C%2Fp%3E%0A":Wir demonstrieren für:\n\nKlimaschutz!Verkehrssicherheit
 !Menschengerechten Verkehr!Einen Ausbau des ÖPNV!Gleichberechtigung alle
 r Verkehrsteilnehmer:innen!\n\nUnd das alles per Fahrrad. Wir starten in 
 Steinfurt an der Stadtbücherei und enden mit einer Abschlusskundgebung i
 n Borghorst (Roter Platz). Neben mir wird auch Uli Ahlke (Verein WieWolle
 nWirLeben e.V.) sprechen. Herzliche Einladung.
CLASS:PUBLIC
DTSTART;TZID=Europe/Berlin:20210904T100000
DTEND;TZID=Europe/Berlin:20210904T110000
DTSTAMP:20260424T152839
END:VEVENT
END:VCALENDAR