BEGIN:VCALENDAR
VERSION:2.0
PRODID:alexandra-schoo.de
METHOD:PUBLISH
BEGIN:VTIMEZONE
TZID:Europe/Berlin
X-LIC-LOCATION:Europe/Berlin
BEGIN:DAYLIGHT
TZOFFSETFROM:+0100
TZOFFSETTO:+0200
TZNAME:CEST
DTSTART:19700329T020000
RRULE:FREQ=YEARLY;INTERVAL=1;BYDAY=-1SU;BYMONTH=3
END:DAYLIGHT
BEGIN:STANDARD
TZOFFSETFROM:+0200
TZOFFSETTO:+0100
TZNAME:CET
DTSTART:19701025T030000
RRULE:FREQ=YEARLY;INTERVAL=1;BYDAY=-1SU;BYMONTH=10
END:STANDARD
END:VTIMEZONE
BEGIN:VEVENT
UID:da14e23dc879a242e33c54b33e4b70f8@alexandra-schoo.de
URL;VALUE=URI:https://alexandra-schoo.de/termine/sonderabfalldeponie-ocht
 rup/
LOCATION:Ochtrup
SUMMARY:Sonderabfalldeponie Ochtrup
DESCRIPTION;ALTREP="data:text/html,%0A%3Cp%3EEine%20Umwelts%C3%BCnde%20-%
 20Vor%20Ort%20Gespr%C3%A4ch%20mit%20Norwich%20R%C3%BC%C3%9Fe%2C%20MdL%3C%
 2Fp%3E%0A":Eine Umweltsünde - Vor Ort Gespräch mit Norwich Rüße\, MdL
CLASS:PUBLIC
DTSTART;TZID=Europe/Berlin:20210826T000000
DTEND;TZID=Europe/Berlin:20210826T000000
DTSTAMP:20260424T152738
END:VEVENT
END:VCALENDAR