BEGIN:VCALENDAR
VERSION:2.0
PRODID:alexandra-schoo.de
METHOD:PUBLISH
BEGIN:VTIMEZONE
TZID:Europe/Berlin
X-LIC-LOCATION:Europe/Berlin
BEGIN:DAYLIGHT
TZOFFSETFROM:+0100
TZOFFSETTO:+0200
TZNAME:CEST
DTSTART:19700329T020000
RRULE:FREQ=YEARLY;INTERVAL=1;BYDAY=-1SU;BYMONTH=3
END:DAYLIGHT
BEGIN:STANDARD
TZOFFSETFROM:+0200
TZOFFSETTO:+0100
TZNAME:CET
DTSTART:19701025T030000
RRULE:FREQ=YEARLY;INTERVAL=1;BYDAY=-1SU;BYMONTH=10
END:STANDARD
END:VTIMEZONE
BEGIN:VEVENT
UID:991819d228b84677f36a9356eeef4c50@alexandra-schoo.de
URL;VALUE=URI:https://alexandra-schoo.de/termine/triangel-tour/
LOCATION:Triangel Radweg
SUMMARY:Triangel – Tour
DESCRIPTION;ALTREP="data:text/html,%0A%3Cp%3EWir%20M%C3%BCnsterl%C3%A4nde
 r%3Ainnen%20haben%20ja%20fast%20eine%20%C3%A4hnlich%20innige%20Beziehung%
 20zu%20unseren%20Fahrr%C3%A4dern%20wie%20die%20Niederl%C3%A4nder%3Ainnen.
 %20Fahrrad%20fahren%20macht%20Spa%C3%9F%20und%20ist%20eine%20gute%20Fortb
 ewegungsart.%26nbsp%3B%3C%2Fp%3E%0A%0A%0A%0A%3Cp%3EIn%20meinem%20Wahlkrei
 s%20gibt%20es%20das%20Triangelprojekt%20was%20verschiedene%20St%C3%A4dte%
 20per%20Radschnellweg%20miteinander%20vernetzt.%20Die%20Radwege%20sind%20
 bequem%2C%20gut%20ausgebaut%20und%20einfach%20fahrbar.%20Aber%20auch%20no
 ch%20nicht%20alle%20fertig.%20Wir%20wollen%20den%20Unterschied%20sehen%20
 und%20fahren%20die%20ganze%20Triangel-%20Hopp%20on%20Hopp%20off.%20Fahr%2
 0gerne%20ein%20St%C3%BCck%20mit.%20Wir%20haben%20Getr%C3%A4nke%2C%20auch%
 20f%C3%BCr%20Radfahrer%3Ainnen%20unterwegs%20dabei%20und%20tauschen%20uns
 %20auf%20dem%20Rad%20und%20am%20Pausen-Pilz%20%C3%BCber%20alles%20M%C3%B6
 gliche%20aus.%20Sei%20dabei%21%20%3C%2Fp%3E%0A%0A%0A%0A%3Cp%3E%3Cstrong%3
 EAblauf%3C%2Fstrong%3E%20%3C%2Fp%3E%0A%0A%0A%0A%3Cp%3EUnser%20Startpunkt%
 20ist%20Ochtrup.%20Der%20Einstiegspunkt%20ist%20Dorfstra%C3%9Fe%2F%20Ecke
 %20Von-Buchholtz-Str..%20Hier%20unser%20Zeitplan%20-%20mit%20dem%20jeder%
 20ein-%20und%20aussteigen%20kann%2C%20wie%20sie%2Fer%20m%C3%B6chte%3A%3C%
 2Fp%3E%0A%0A%0A%0A%3Cdiv%20class%3D%22wp-block-columns%20is-layout-flex%2
 0wp-container-core-columns-is-layout-9d6595d7%20wp-block-columns-is-layou
 t-flex%22%3E%0A%3Cdiv%20class%3D%22wp-block-column%20is-layout-flow%20wp-
 block-column-is-layout-flow%22%20style%3D%22flex-basis%3A100%25%22%3E%0A%
 3Cdiv%20class%3D%22wp-block-columns%20is-layout-flex%20wp-container-core-
 columns-is-layout-9d6595d7%20wp-block-columns-is-layout-flex%22%3E%0A%3Cd
 iv%20class%3D%22wp-block-column%20is-layout-flow%20wp-block-column-is-lay
 out-flow%22%20style%3D%22flex-basis%3A66.67%25%22%3E%0A%3Cp%3E10%3A00%20U
 hr%20%20%20%20%20Start%3A%20Ochtrup%20%3C%2Fp%3E%0A%0A%0A%0A%3Cp%3E10%3A3
 0%20Uhr%20%20%20%20%20Triangel%20Ankunft%3A%20Wettringen%20%28ZOB%29%3C%2
 Fp%3E%0A%0A%0A%0A%3Cp%3E11%3A00%20Uhr%20%20%20%20%20%20Start%3A%20Wettrin
 gen%3C%2Fp%3E%0A%0A%0A%0A%3Cp%3E11%3A30%20Uhr%20%20%20%20%20%20Ankunft%3A
 %20Neuenkirchen%20%28Offlumer%20See%29%3C%2Fp%3E%0A%0A%0A%0A%3Cp%3E12%3A0
 0%20Uhr%20%20%20%20%20Start%3A%20Neuenkirchen%3C%2Fp%3E%0A%0A%0A%0A%3Cp%3
 E12%3A30%20Uhr%20%20%20%20%20Ankunft%3A%20Rheine%20%28Bahnhofsvorplatz%3F
 %29%3C%2Fp%3E%0A%0A%0A%0A%3Cp%3E13%3A00%20Uhr%20%20%20%20Start%3A%20Rhein
 e%3C%2Fp%3E%0A%0A%0A%0A%3Cp%3E13%3A30%20Uhr%20%20%20%20Ankunft%3A%20Hauen
 horst%3C%2Fp%3E%0A%0A%0A%0A%3Cp%3E14%3A00%20Uhr%20%20%20%20Start%3A%20Hau
 enhorst%3C%2Fp%3E%0A%0A%0A%0A%3Cp%3E14%3A30%20Uhr%20%20%20%20%20Ankunft%3
 A%20St.%20Arnold%3C%2Fp%3E%0A%0A%0A%0A%3Cp%3E15%3A00%20Uhr%20%20%20%20%20
 Start%3A%20St.%20Arnold%3C%2Fp%3E%0A%0A%0A%0A%3Cp%3E15%3A40%20Uhr%20%20%2
 0%20%20Ankunft%3A%20Burgsteinfurt%20Bahnhof%20%3C%2Fp%3E%0A%0A%0A%0A%3Cp%
 3E16%3A40%20Uhr%20%20%20%20%20Start%3A%20Burgsteinfurt%20Bahnhof%20%3C%2F
 p%3E%0A%0A%0A%0A%3Cp%3E17%3A15%20Uhr%20%20%20%20%20%20Ankunft%3A%20Metele
 n%20%3C%2Fp%3E%0A%0A%0A%0A%3Cp%3E17%3A45%20Uhr%20%20%20%20%20Start%3A%20M
 etelen%3C%2Fp%3E%0A%0A%0A%0A%3Cp%3E18%3A15%20Uhr%20%20%20%20%20Ankunft%3A
 %20Ochtrup%3C%2Fp%3E%0A%3C%2Fdiv%3E%0A%3C%2Fdiv%3E%0A%3C%2Fdiv%3E%0A%3C%2
 Fdiv%3E%0A%0A%0A%0A%3Cp%3E%3C%2Fp%3E%0A":Wir Münsterländer:innen haben 
 ja fast eine ähnlich innige Beziehung zu unseren Fahrrädern wie die Nie
 derländer:innen. Fahrrad fahren macht Spaß und ist eine gute Fortbewegu
 ngsart. \n\nIn meinem Wahlkreis gibt es das Triangelprojekt was verschie
 dene Städte per Radschnellweg miteinander vernetzt. Die Radwege sind beq
 uem\, gut ausgebaut und einfach fahrbar. Aber auch noch nicht alle fertig
 . Wir wollen den Unterschied sehen und fahren die ganze Triangel- Hopp on
  Hopp off. Fahr gerne ein Stück mit. Wir haben Getränke\, auch für Rad
 fahrer:innen unterwegs dabei und tauschen uns auf dem Rad und am Pausen-P
 ilz über alles Mögliche aus. Sei dabei!\n\nAblauf\n\nUnser Startpunkt i
 st Ochtrup. Der Einstiegspunkt ist Dorfstraße/ Ecke Von-Buchholtz-Str.. 
 Hier unser Zeitplan - mit dem jeder ein- und aussteigen kann\, wie sie/er
  möchte:\n\n10:00 Uhr     Start: Ochtrup\n\n10:30 Uhr     Triangel Ankun
 ft: Wettringen (ZOB)\n\n11:00 Uhr      Start: Wettringen\n\n11:30 Uhr    
   Ankunft: Neuenkirchen (Offlumer See)\n\n12:00 Uhr     Start: Neuenkirch
 en\n\n12:30 Uhr     Ankunft: Rheine (Bahnhofsvorplatz?)\n\n13:00 Uhr    S
 tart: Rheine\n\n13:30 Uhr    Ankunft: Hauenhorst\n\n14:00 Uhr    Start: H
 auenhorst\n\n14:30 Uhr     Ankunft: St. Arnold\n\n15:00 Uhr     Start: St
 . Arnold\n\n15:40 Uhr     Ankunft: Burgsteinfurt Bahnhof\n\n16:40 Uhr    
  Start: Burgsteinfurt Bahnhof\n\n17:15 Uhr      Ankunft: Metelen\n\n17:45
  Uhr     Start: Metelen\n\n18:15 Uhr     Ankunft: Ochtrup
CLASS:PUBLIC
DTSTART;TZID=Europe/Berlin:20210919T100000
DTEND;TZID=Europe/Berlin:20210919T181500
DTSTAMP:20260424T152739
END:VEVENT
END:VCALENDAR