BEGIN:VCALENDAR
VERSION:2.0
PRODID:alexandra-schoo.de
METHOD:PUBLISH
BEGIN:VTIMEZONE
TZID:Europe/Berlin
X-LIC-LOCATION:Europe/Berlin
BEGIN:DAYLIGHT
TZOFFSETFROM:+0100
TZOFFSETTO:+0200
TZNAME:CEST
DTSTART:19700329T020000
RRULE:FREQ=YEARLY;INTERVAL=1;BYDAY=-1SU;BYMONTH=3
END:DAYLIGHT
BEGIN:STANDARD
TZOFFSETFROM:+0200
TZOFFSETTO:+0100
TZNAME:CET
DTSTART:19701025T030000
RRULE:FREQ=YEARLY;INTERVAL=1;BYDAY=-1SU;BYMONTH=10
END:STANDARD
END:VTIMEZONE
BEGIN:VEVENT
UID:baea04dd1c75000d75242c28b44ef49b@alexandra-schoo.de
URL;VALUE=URI:https://alexandra-schoo.de/termine/unternehmensbesuch-tobit
 -mit-mona-neubaur/
LOCATION:Tobit, Ahaus
SUMMARY:Unternehmensbesuch Tobit mit Mona Neubaur
DESCRIPTION;ALTREP="data:text/html,%0A%3Cp%3EWir%20besichtigen%20das%20Un
 ternehmen%20Tobit%20und%20sprechen%20%C3%BCber%20Digitalisierung.%20Was%2
 0haben%20sie%20in%20der%20Coronapandemie%20an%20Erfahrungen%20gemacht%3F%
 20Wo%20sehen%20sie%20Chancen%20und%20H%C3%BCrden%3F%20Was%20muss%20dringe
 nd%20getan%20werden%3F%3C%2Fp%3E%0A%0A%0A%0A%3Cp%3EWir%20wollen%20auch%20
 %C3%BCber%20konkrete%20App-%20Ideen%20f%C3%BCr%20die%20Kommunalpolitik%20
 sprechen.%26nbsp%3B%3C%2Fp%3E%0A%0A%0A%0A%3Cp%3EZu%20Besuch%20bei%20uns%2
 0dazu%20unsere%20Landesvorsitzende%20Mona%20Neubaur.%3C%2Fp%3E%0A":Wir be
 sichtigen das Unternehmen Tobit und sprechen über Digitalisierung. Was h
 aben sie in der Coronapandemie an Erfahrungen gemacht? Wo sehen sie Chanc
 en und Hürden? Was muss dringend getan werden?\n\nWir wollen auch über 
 konkrete App- Ideen für die Kommunalpolitik sprechen. \n\nZu Besuch bei
  uns dazu unsere Landesvorsitzende Mona Neubaur.
CLASS:PUBLIC
DTSTART;TZID=Europe/Berlin:20210911T140000
DTEND;TZID=Europe/Berlin:20210911T150000
DTSTAMP:20260424T152110
END:VEVENT
END:VCALENDAR